BEGIN:VCALENDAR
VERSION:2.0
PRODID:-//Microsoft Corporation//Outlook 16.0 MIMEDIR//EN
NAME:Risikomanagement in Stiftungen und anderen Non-Profit-Organisationen
X-WR-CALNAME:Risikomanagement in Stiftungen und anderen Non-Profit-Organisa
 tionen
METHOD:PUBLISH
X-MS-OLK-FORCEINSPECTOROPEN:TRUE
BEGIN:VTIMEZONE
TZID:Europe/Berlin
BEGIN:STANDARD
DTSTART:20261025T030000
TZOFFSETFROM:+0200
TZOFFSETTO:+0100
END:STANDARD
BEGIN:DAYLIGHT
DTSTART:20270328T010000
TZOFFSETFROM:+0100
TZOFFSETTO:+0200
END:DAYLIGHT
END:VTIMEZONE
BEGIN:VTIMEZONE
TZID:UTC
BEGIN:STANDARD
DTSTART:20250725T140342
TZOFFSETFROM:+0000
TZOFFSETTO:+0000
END:STANDARD
END:VTIMEZONE
BEGIN:VEVENT
UID:0c6d957f-c717-4e8a-8a5d-d427a1623529
DTSTAMP:20260421T140342Z
SUMMARY:Webinar: Risikomanagement in Stiftungen und anderen Non-Profit-Orga
 nisationen
DESCRIPTION:Alle Infos unter https://esv-akademie.de/veranstaltungen/vnr007
 60
LOCATION:Online
DTSTART;TZID=Europe/Berlin:20270415T090000
DTEND;TZID=Europe/Berlin:20270415T120000
CLASS:PUBLIC
PRIORITY:5
SEQUENCE:0
X-MICROSOFT-CDO-BUSYSTATUS:TENTATIVE
X-MICROSOFT-CDO-IMPORTANCE:1
X-MICROSOFT-DISALLOW-COUNTER:FALSE
X-MS-OLK-AUTOFILLLOCATION:FALSE
X-MS-OLK-CONFTYPE:0
END:VEVENT
END:VCALENDAR