BEGIN:VCALENDAR
VERSION:2.0
PRODID:-//Microsoft Corporation//Outlook 16.0 MIMEDIR//EN
NAME:Aktuelle Entwicklungen im Vereins- und Gemeinnützigkeitsrecht
X-WR-CALNAME:Aktuelle Entwicklungen im Vereins- und Gemeinnützigkeitsrecht
METHOD:PUBLISH
X-MS-OLK-FORCEINSPECTOROPEN:TRUE
BEGIN:VTIMEZONE
TZID:Europe/Berlin
BEGIN:DAYLIGHT
DTSTART:20260329T010000
TZOFFSETFROM:+0100
TZOFFSETTO:+0200
END:DAYLIGHT
BEGIN:STANDARD
DTSTART:20261025T030000
TZOFFSETFROM:+0200
TZOFFSETTO:+0100
END:STANDARD
BEGIN:DAYLIGHT
DTSTART:20270328T010000
TZOFFSETFROM:+0100
TZOFFSETTO:+0200
END:DAYLIGHT
END:VTIMEZONE
BEGIN:VTIMEZONE
TZID:UTC
BEGIN:STANDARD
DTSTART:20250729T014830
TZOFFSETFROM:+0000
TZOFFSETTO:+0000
END:STANDARD
END:VTIMEZONE
BEGIN:VEVENT
UID:995ca490-b460-427a-8493-bf02b0df204b
DTSTAMP:20260425T014830Z
SUMMARY:Hybrid-Seminar: Aktuelle Entwicklungen im Vereins- und Gemeinnützi
 gkeitsrecht
DESCRIPTION:Alle Infos unter https://esv-akademie.de/veranstaltungen/verein
 s-gemeinnuetzigkeitsrecht
LOCATION:ESV-Akademie\, Genthiner Straße 30 C\, 10785 Berlin | Online
DTSTART;TZID=Europe/Berlin:20261106T090000
DTEND;TZID=Europe/Berlin:20261106T173000
CLASS:PUBLIC
PRIORITY:5
SEQUENCE:0
X-MICROSOFT-CDO-BUSYSTATUS:TENTATIVE
X-MICROSOFT-CDO-IMPORTANCE:1
X-MICROSOFT-DISALLOW-COUNTER:FALSE
X-MS-OLK-AUTOFILLLOCATION:FALSE
X-MS-OLK-CONFTYPE:0
END:VEVENT
END:VCALENDAR