BEGIN:VCALENDAR
VERSION:2.0
PRODID:-//Microsoft Corporation//Outlook 16.0 MIMEDIR//EN
NAME:Black Swans: Robuste Strategie und Risikosteuerung in unsicheren Zeite
 n
X-WR-CALNAME:Black Swans: Robuste Strategie und Risikosteuerung in unsicher
 en Zeiten
METHOD:PUBLISH
X-MS-OLK-FORCEINSPECTOROPEN:TRUE
BEGIN:VTIMEZONE
TZID:Europe/Berlin
BEGIN:STANDARD
DTSTART:20251026T030000
TZOFFSETFROM:+0200
TZOFFSETTO:+0100
END:STANDARD
BEGIN:DAYLIGHT
DTSTART:20260329T010000
TZOFFSETFROM:+0100
TZOFFSETTO:+0200
END:DAYLIGHT
BEGIN:STANDARD
DTSTART:20261025T030000
TZOFFSETFROM:+0200
TZOFFSETTO:+0100
END:STANDARD
END:VTIMEZONE
BEGIN:VTIMEZONE
TZID:UTC
BEGIN:STANDARD
DTSTART:20250725T140527
TZOFFSETFROM:+0000
TZOFFSETTO:+0000
END:STANDARD
END:VTIMEZONE
BEGIN:VEVENT
UID:b06941a7-0391-41b9-a0a4-be9ff54177af
DTSTAMP:20260421T140527Z
SUMMARY:Webinar: Black Swans: Robuste Strategie und Risikosteuerung in unsi
 cheren Zeiten
DESCRIPTION:Alle Infos unter https://esv-akademie.de/veranstaltungen/black-
 swans-risikosteuerung-in-unsicheren-zeiten
LOCATION:Online
DTSTART;TZID=Europe/Berlin:20260512T101500
DTEND;TZID=Europe/Berlin:20260512T110000
CLASS:PUBLIC
PRIORITY:5
SEQUENCE:0
X-MICROSOFT-CDO-BUSYSTATUS:TENTATIVE
X-MICROSOFT-CDO-IMPORTANCE:1
X-MICROSOFT-DISALLOW-COUNTER:FALSE
X-MS-OLK-AUTOFILLLOCATION:FALSE
X-MS-OLK-CONFTYPE:0
END:VEVENT
END:VCALENDAR