BEGIN:VCALENDAR
VERSION:2.0
PRODID:-//Microsoft Corporation//Outlook 16.0 MIMEDIR//EN
NAME:Mitgliederversammlung und Beschlussfassung im Verein
X-WR-CALNAME:Mitgliederversammlung und Beschlussfassung im Verein
METHOD:PUBLISH
X-MS-OLK-FORCEINSPECTOROPEN:TRUE
BEGIN:VTIMEZONE
TZID:Europe/Berlin
BEGIN:STANDARD
DTSTART:20251026T030000
TZOFFSETFROM:+0200
TZOFFSETTO:+0100
END:STANDARD
BEGIN:DAYLIGHT
DTSTART:20260329T010000
TZOFFSETFROM:+0100
TZOFFSETTO:+0200
END:DAYLIGHT
BEGIN:STANDARD
DTSTART:20261025T030000
TZOFFSETFROM:+0200
TZOFFSETTO:+0100
END:STANDARD
END:VTIMEZONE
BEGIN:VTIMEZONE
TZID:UTC
BEGIN:STANDARD
DTSTART:20250729T020739
TZOFFSETFROM:+0000
TZOFFSETTO:+0000
END:STANDARD
END:VTIMEZONE
BEGIN:VEVENT
UID:da669f14-b971-4f20-9aa4-16ea0497dfd9
DTSTAMP:20260425T020739Z
SUMMARY:Webinar: Mitgliederversammlung und Beschlussfassung im Verein
DESCRIPTION:Alle Infos unter https://esv-akademie.de/veranstaltungen/mitgli
 ederversammlung-beschlussfassung-verein
LOCATION:Online
DTSTART;TZID=Europe/Berlin:20260505T093000
DTEND;TZID=Europe/Berlin:20260505T120000
CLASS:PUBLIC
PRIORITY:5
SEQUENCE:0
X-MICROSOFT-CDO-BUSYSTATUS:TENTATIVE
X-MICROSOFT-CDO-IMPORTANCE:1
X-MICROSOFT-DISALLOW-COUNTER:FALSE
X-MS-OLK-AUTOFILLLOCATION:FALSE
X-MS-OLK-CONFTYPE:0
END:VEVENT
END:VCALENDAR